Package: biomaRt Version: 2.66.0 Command: /Library/Frameworks/R.framework/Resources/bin/R CMD build --keep-empty-dirs --no-resave-data biomaRt StartedAt: 2025-11-02 15:46:33 -0500 (Sun, 02 Nov 2025) EndedAt: 2025-11-02 15:47:19 -0500 (Sun, 02 Nov 2025) EllapsedTime: 45.5 seconds RetCode: 0 Status: OK PackageFile: biomaRt_2.66.0.tar.gz PackageFileSize: 885.1 KiB