Package: biomaRt Version: 2.66.0 Command: rm -rf biomaRt.buildbin-libdir && mkdir biomaRt.buildbin-libdir && /Users/biocbuild/BBS/utils/build-universal.sh biomaRt_2.66.0.tar.gz /Library/Frameworks/R.framework/Resources/bin/R biomaRt.buildbin-libdir StartedAt: 2025-10-31 22:59:39 -0400 (Fri, 31 Oct 2025) EndedAt: 2025-10-31 22:59:46 -0400 (Fri, 31 Oct 2025) EllapsedTime: 7.2 seconds RetCode: 0 Status: OK PackageFile: biomaRt_2.66.0.tgz PackageFileSize: 967.6 KiB