Package: biodbHmdb Version: 1.16.0 Command: /home/biocbuild/bbs-3.22-bioc/R/bin/R CMD INSTALL biodbHmdb StartedAt: 2025-11-25 15:37:13 -0500 (Tue, 25 Nov 2025) EndedAt: 2025-11-25 15:37:50 -0500 (Tue, 25 Nov 2025) EllapsedTime: 36.5 seconds RetCode: 0 Status: OK