Package: biodbChebi Version: 1.15.1 Command: /home/biocbuild/bbs-3.22-bioc/R/bin/R CMD INSTALL biodbChebi StartedAt: 2025-10-24 15:21:43 -0400 (Fri, 24 Oct 2025) EndedAt: 2025-10-24 15:21:50 -0400 (Fri, 24 Oct 2025) EllapsedTime: 6.8 seconds RetCode: 0 Status: OK