Package: biodb Version: 1.18.0 Command: /home/biocbuild/bbs-3.22-bioc/R/bin/R CMD INSTALL biodb StartedAt: 2025-11-25 15:36:19 -0500 (Tue, 25 Nov 2025) EndedAt: 2025-11-25 15:37:13 -0500 (Tue, 25 Nov 2025) EllapsedTime: 54.0 seconds RetCode: 0 Status: OK