Package: biocthis Version: 1.20.0 Command: /home/biocbuild/bbs-3.22-bioc/R/bin/R CMD build --keep-empty-dirs --no-resave-data --md5 biocthis StartedAt: 2025-11-17 19:46:12 -0500 (Mon, 17 Nov 2025) EndedAt: 2025-11-17 19:46:26 -0500 (Mon, 17 Nov 2025) EllapsedTime: 14.0 seconds RetCode: 0 Status: OK PackageFile: biocthis_1.20.0.tar.gz PackageFileSize: 662.1 KiB