Package: biocroxytest Version: 1.5.0 Command: rm -rf biocroxytest.buildbin-libdir && mkdir biocroxytest.buildbin-libdir && /Users/biocbuild/BBS/utils/build-universal.sh biocroxytest_1.5.0.tar.gz /Library/Frameworks/R.framework/Resources/bin/R biocroxytest.buildbin-libdir StartedAt: 2025-10-24 22:55:35 -0400 (Fri, 24 Oct 2025) EndedAt: 2025-10-24 22:55:37 -0400 (Fri, 24 Oct 2025) EllapsedTime: 2.0 seconds RetCode: 0 Status: OK PackageFile: biocroxytest_1.5.0.tgz PackageFileSize: 144 KiB