Package: biocViews Version: 1.78.0 Command: /Library/Frameworks/R.framework/Resources/bin/R CMD INSTALL biocViews StartedAt: 2025-11-03 15:20:42 -0500 (Mon, 03 Nov 2025) EndedAt: 2025-11-03 15:20:58 -0500 (Mon, 03 Nov 2025) EllapsedTime: 15.6 seconds RetCode: 0 Status: OK