Package: biocViews Version: 1.77.4 Command: /Library/Frameworks/R.framework/Resources/bin/R CMD INSTALL biocViews StartedAt: 2025-10-24 15:09:58 -0400 (Fri, 24 Oct 2025) EndedAt: 2025-10-24 15:10:02 -0400 (Fri, 24 Oct 2025) EllapsedTime: 3.7 seconds RetCode: 0 Status: OK