Package: biocViews Version: 1.77.4 Command: /Library/Frameworks/R.framework/Resources/bin/R CMD build --keep-empty-dirs --no-resave-data biocViews StartedAt: 2025-10-24 15:48:57 -0400 (Fri, 24 Oct 2025) EndedAt: 2025-10-24 15:49:04 -0400 (Fri, 24 Oct 2025) EllapsedTime: 7.1 seconds RetCode: 0 Status: OK PackageFile: biocViews_1.77.4.tar.gz PackageFileSize: 510.2 KiB