Package: biocViews Version: 1.77.4 Command: rm -rf biocViews.buildbin-libdir && mkdir biocViews.buildbin-libdir && /Users/biocbuild/BBS/utils/build-universal.sh biocViews_1.77.4.tar.gz /Library/Frameworks/R.framework/Resources/bin/R biocViews.buildbin-libdir StartedAt: 2025-10-24 22:55:40 -0400 (Fri, 24 Oct 2025) EndedAt: 2025-10-24 22:55:45 -0400 (Fri, 24 Oct 2025) EllapsedTime: 4.1 seconds RetCode: 0 Status: OK PackageFile: biocViews_1.77.4.tgz PackageFileSize: 901.4 KiB