Package: biocGraph Version: 1.72.0 Command: /home/biocbuild/bbs-3.22-bioc/R/bin/R CMD check --install=check:biocGraph.install-out.txt --library=/home/biocbuild/bbs-3.22-bioc/R/site-library --timings biocGraph_1.72.0.tar.gz StartedAt: 2025-10-30 21:28:44 -0400 (Thu, 30 Oct 2025) EndedAt: 2025-10-30 21:30:32 -0400 (Thu, 30 Oct 2025) EllapsedTime: 108.1 seconds RetCode: 0 Status: OK CheckDir: biocGraph.Rcheck Warnings: 0