Package: biocGraph Version: 1.71.0 Command: /Library/Frameworks/R.framework/Resources/bin/R CMD build --keep-empty-dirs --no-resave-data biocGraph StartedAt: 2025-10-24 16:18:16 -0400 (Fri, 24 Oct 2025) EndedAt: 2025-10-24 16:18:53 -0400 (Fri, 24 Oct 2025) EllapsedTime: 36.6 seconds RetCode: 0 Status: OK PackageFile: biocGraph_1.71.0.tar.gz PackageFileSize: 729.3 KiB