Package: biocGraph Version: 1.71.0 Command: rm -rf biocGraph.buildbin-libdir && mkdir biocGraph.buildbin-libdir && /Users/biocbuild/BBS/utils/build-universal.sh biocGraph_1.71.0.tar.gz /Library/Frameworks/R.framework/Resources/bin/R biocGraph.buildbin-libdir StartedAt: 2025-10-25 01:29:49 -0400 (Sat, 25 Oct 2025) EndedAt: 2025-10-25 01:30:10 -0400 (Sat, 25 Oct 2025) EllapsedTime: 21.0 seconds RetCode: 0 Status: OK PackageFile: biocGraph_1.71.0.tgz PackageFileSize: 720.3 KiB