Package: biocGraph Version: 1.71.0 Command: /Library/Frameworks/R.framework/Resources/bin/R CMD INSTALL biocGraph StartedAt: 2025-10-26 15:15:03 -0400 (Sun, 26 Oct 2025) EndedAt: 2025-10-26 15:15:09 -0400 (Sun, 26 Oct 2025) EllapsedTime: 5.3 seconds RetCode: 0 Status: OK