Package: biocGraph Version: 1.71.0 Command: /Library/Frameworks/R.framework/Resources/bin/R CMD build --keep-empty-dirs --no-resave-data biocGraph StartedAt: 2025-10-26 15:45:58 -0400 (Sun, 26 Oct 2025) EndedAt: 2025-10-26 15:46:11 -0400 (Sun, 26 Oct 2025) EllapsedTime: 13.2 seconds RetCode: 0 Status: OK PackageFile: biocGraph_1.71.0.tar.gz PackageFileSize: 730.7 KiB