Package: biocGraph Version: 1.71.0 Command: rm -rf biocGraph.buildbin-libdir && mkdir biocGraph.buildbin-libdir && /Users/biocbuild/BBS/utils/build-universal.sh biocGraph_1.71.0.tar.gz /Library/Frameworks/R.framework/Resources/bin/R biocGraph.buildbin-libdir StartedAt: 2025-10-26 22:30:12 -0400 (Sun, 26 Oct 2025) EndedAt: 2025-10-26 22:30:18 -0400 (Sun, 26 Oct 2025) EllapsedTime: 6.1 seconds RetCode: 0 Status: OK PackageFile: biocGraph_1.71.0.tgz PackageFileSize: 722 KiB