Package: biocGraph Version: 1.72.0 Maintainer: Florian Hahne MaintainerEmail: florian.hahne at novartis.com git_url: https://git.bioconductor.org/packages/biocGraph git_branch: RELEASE_3_22 git_last_commit: c7492ba git_last_commit_date: 2025-10-29 09:59:36 -0500 (Wed, 29 Oct 2025)