Package: biobtreeR Version: 1.21.0 Command: /home/biocbuild/bbs-3.22-bioc/R/bin/R CMD build --keep-empty-dirs --no-resave-data --md5 biobtreeR StartedAt: 2025-10-24 16:37:53 -0400 (Fri, 24 Oct 2025) EndedAt: 2025-10-24 16:38:43 -0400 (Fri, 24 Oct 2025) EllapsedTime: 50.0 seconds RetCode: 0 Status: OK PackageFile: biobtreeR_1.21.0.tar.gz PackageFileSize: 939.5 KiB