Package: bioassayR Version: 1.47.0 Command: /home/biocbuild/bbs-3.22-bioc/R/bin/R CMD build --keep-empty-dirs --no-resave-data --md5 bioassayR StartedAt: 2025-10-24 16:37:37 -0400 (Fri, 24 Oct 2025) EndedAt: 2025-10-24 16:38:24 -0400 (Fri, 24 Oct 2025) EllapsedTime: 47.0 seconds RetCode: 0 Status: OK PackageFile: bioassayR_1.47.0.tar.gz PackageFileSize: 1.533 MiB