Package: bioDist Version: 1.81.0 Command: /home/biocbuild/bbs-3.22-bioc/R/bin/R CMD build --keep-empty-dirs --no-resave-data --md5 bioDist StartedAt: 2025-10-27 16:31:54 -0400 (Mon, 27 Oct 2025) EndedAt: 2025-10-27 16:32:10 -0400 (Mon, 27 Oct 2025) EllapsedTime: 16.0 seconds RetCode: 0 Status: OK PackageFile: bioDist_1.81.0.tar.gz PackageFileSize: 206 KiB