Package: bioDist Version: 1.82.0 Command: /Library/Frameworks/R.framework/Resources/bin/R CMD build --keep-empty-dirs --no-resave-data bioDist StartedAt: 2025-10-31 15:50:32 -0400 (Fri, 31 Oct 2025) EndedAt: 2025-10-31 15:50:40 -0400 (Fri, 31 Oct 2025) EllapsedTime: 8.1 seconds RetCode: 0 Status: OK PackageFile: bioDist_1.82.0.tar.gz PackageFileSize: 204.7 KiB