Package: bioCancer Version: 1.37.0 Command: /home/biocbuild/bbs-3.22-bioc/R/bin/R CMD INSTALL bioCancer StartedAt: 2025-10-24 16:08:46 -0400 (Fri, 24 Oct 2025) EndedAt: 2025-10-24 16:09:41 -0400 (Fri, 24 Oct 2025) EllapsedTime: 54.5 seconds RetCode: 0 Status: OK