Package: bioCancer Version: 1.37.0 Command: /home/biocbuild/bbs-3.22-bioc/R/bin/R CMD build --keep-empty-dirs --no-resave-data --md5 bioCancer StartedAt: 2025-10-27 16:29:52 -0400 (Mon, 27 Oct 2025) EndedAt: 2025-10-27 16:30:46 -0400 (Mon, 27 Oct 2025) EllapsedTime: 54.1 seconds RetCode: 0 Status: OK PackageFile: bioCancer_1.37.0.tar.gz PackageFileSize: 9.466 MiB