Package: bioCancer Version: 1.38.0 Command: /Library/Frameworks/R.framework/Resources/bin/R CMD INSTALL bioCancer StartedAt: 2025-11-03 15:47:56 -0500 (Mon, 03 Nov 2025) EndedAt: 2025-11-03 15:49:12 -0500 (Mon, 03 Nov 2025) EllapsedTime: 76.0 seconds RetCode: 0 Status: OK