Package: bioCancer Version: 1.38.0 Command: rm -rf bioCancer.buildbin-libdir && mkdir bioCancer.buildbin-libdir && /Users/biocbuild/BBS/utils/build-universal.sh bioCancer_1.38.0.tar.gz /Library/Frameworks/R.framework/Resources/bin/R bioCancer.buildbin-libdir StartedAt: 2025-11-04 01:29:32 -0500 (Tue, 04 Nov 2025) EndedAt: 2025-11-04 01:30:53 -0500 (Tue, 04 Nov 2025) EllapsedTime: 81.4 seconds RetCode: 0 Status: OK PackageFile: bioCancer_1.38.0.tgz PackageFileSize: 7.419 MiB