Package: bioCancer Version: 1.37.0 Command: /Library/Frameworks/R.framework/Resources/bin/R CMD build --keep-empty-dirs --no-resave-data bioCancer StartedAt: 2025-10-26 15:45:41 -0400 (Sun, 26 Oct 2025) EndedAt: 2025-10-26 15:46:04 -0400 (Sun, 26 Oct 2025) EllapsedTime: 23.3 seconds RetCode: 0 Status: OK PackageFile: bioCancer_1.37.0.tar.gz PackageFileSize: 9.459 MiB