Package: bigmelon Version: 1.35.0 Command: /home/biocbuild/bbs-3.22-bioc/R/bin/R CMD INSTALL bigmelon StartedAt: 2025-10-27 16:04:54 -0400 (Mon, 27 Oct 2025) EndedAt: 2025-10-27 16:05:45 -0400 (Mon, 27 Oct 2025) EllapsedTime: 51.2 seconds RetCode: 0 Status: OK