Package: bigmelon Version: 1.36.0 Command: /Library/Frameworks/R.framework/Resources/bin/R CMD INSTALL bigmelon StartedAt: 2025-11-03 15:32:58 -0500 (Mon, 03 Nov 2025) EndedAt: 2025-11-03 15:33:17 -0500 (Mon, 03 Nov 2025) EllapsedTime: 18.7 seconds RetCode: 0 Status: OK