Package: bigmelon Version: 1.36.0 Command: /Library/Frameworks/R.framework/Resources/bin/R CMD build --keep-empty-dirs --no-resave-data bigmelon StartedAt: 2025-11-02 15:45:18 -0500 (Sun, 02 Nov 2025) EndedAt: 2025-11-02 15:45:54 -0500 (Sun, 02 Nov 2025) EllapsedTime: 35.4 seconds RetCode: 0 Status: OK PackageFile: bigmelon_1.36.0.tar.gz PackageFileSize: 901.2 KiB