Package: bgx Version: 1.75.1 Command: /home/biocbuild/bbs-3.22-bioc/R/bin/R CMD INSTALL bgx StartedAt: 2025-10-24 15:26:00 -0400 (Fri, 24 Oct 2025) EndedAt: 2025-10-24 15:26:24 -0400 (Fri, 24 Oct 2025) EllapsedTime: 24.7 seconds RetCode: 0 Status: OK