Package: betaHMM Version: 1.5.1 Command: /home/biocbuild/bbs-3.22-bioc/R/bin/R CMD INSTALL betaHMM StartedAt: 2025-10-24 15:28:43 -0400 (Fri, 24 Oct 2025) EndedAt: 2025-10-24 15:29:09 -0400 (Fri, 24 Oct 2025) EllapsedTime: 26.5 seconds RetCode: 0 Status: OK