Package: betaHMM Version: 1.5.1 Command: /home/biocbuild/bbs-3.22-bioc/R/bin/R CMD build --keep-empty-dirs --no-resave-data --md5 betaHMM StartedAt: 2025-10-24 16:35:37 -0400 (Fri, 24 Oct 2025) EndedAt: 2025-10-24 16:40:27 -0400 (Fri, 24 Oct 2025) EllapsedTime: 290.3 seconds RetCode: 0 Status: OK PackageFile: betaHMM_1.5.1.tar.gz PackageFileSize: 3.838 MiB