Package: benchdamic Version: 1.15.4 Command: /home/biocbuild/bbs-3.22-bioc/R/bin/R CMD INSTALL benchdamic StartedAt: 2025-10-27 15:34:02 -0400 (Mon, 27 Oct 2025) EndedAt: 2025-10-27 15:35:09 -0400 (Mon, 27 Oct 2025) EllapsedTime: 66.8 seconds RetCode: 0 Status: OK