Package: benchdamic Version: 1.15.4 Command: /home/biocbuild/bbs-3.22-bioc/R/bin/R CMD build --keep-empty-dirs --no-resave-data --md5 benchdamic StartedAt: 2025-10-24 16:35:11 -0400 (Fri, 24 Oct 2025) EndedAt: 2025-10-24 16:58:01 -0400 (Fri, 24 Oct 2025) EllapsedTime: 1370.2 seconds RetCode: 0 Status: OK PackageFile: benchdamic_1.15.4.tar.gz PackageFileSize: 5.906 MiB