Package: bedbaser Version: 1.1.4 Command: /home/biocbuild/bbs-3.22-bioc/R/bin/R CMD INSTALL bedbaser StartedAt: 2025-10-27 15:35:55 -0400 (Mon, 27 Oct 2025) EndedAt: 2025-10-27 15:36:01 -0400 (Mon, 27 Oct 2025) EllapsedTime: 5.1 seconds RetCode: 0 Status: OK