Package: beadarray Version: 2.59.0 Command: /home/biocbuild/R/R/bin/R CMD INSTALL beadarray StartedAt: 2025-10-23 20:47:42 -0000 (Thu, 23 Oct 2025) EndedAt: 2025-10-23 20:48:18 -0000 (Thu, 23 Oct 2025) EllapsedTime: 36.3 seconds RetCode: 0 Status: OK