Package: beadarray Version: 2.59.0 Command: /home/biocbuild/R/R/bin/R CMD build --keep-empty-dirs --no-resave-data beadarray StartedAt: 2025-10-20 22:07:35 -0000 (Mon, 20 Oct 2025) EndedAt: 2025-10-20 22:11:31 -0000 (Mon, 20 Oct 2025) EllapsedTime: 236.1 seconds RetCode: 0 Status: OK PackageFile: beadarray_2.59.0.tar.gz PackageFileSize: 2.9 MiB