Package: beadarray Version: 2.59.0 Command: /home/biocbuild/bbs-3.22-bioc/R/bin/R CMD INSTALL beadarray StartedAt: 2025-10-24 15:40:07 -0400 (Fri, 24 Oct 2025) EndedAt: 2025-10-24 15:40:33 -0400 (Fri, 24 Oct 2025) EllapsedTime: 26.1 seconds RetCode: 0 Status: OK