Package: beadarray Version: 2.59.0 Command: /home/biocbuild/bbs-3.22-bioc/R/bin/R CMD check --install=check:beadarray.install-out.txt --library=/home/biocbuild/bbs-3.22-bioc/R/site-library --timings beadarray_2.59.0.tar.gz StartedAt: 2025-10-24 21:30:00 -0400 (Fri, 24 Oct 2025) EndedAt: 2025-10-24 21:30:05 -0400 (Fri, 24 Oct 2025) EllapsedTime: 5.0 seconds RetCode: 1 Status: ERROR CheckDir: beadarray.Rcheck Warnings: NA