Package: beadarray Version: 2.59.0 Command: /Library/Frameworks/R.framework/Resources/bin/R CMD INSTALL beadarray StartedAt: 2025-10-26 15:16:10 -0400 (Sun, 26 Oct 2025) EndedAt: 2025-10-26 15:16:21 -0400 (Sun, 26 Oct 2025) EllapsedTime: 10.1 seconds RetCode: 0 Status: OK