Package: beachmat.hdf5 Version: 1.7.2 Command: /home/biocbuild/bbs-3.22-bioc/R/bin/R CMD INSTALL beachmat.hdf5 StartedAt: 2025-10-24 15:46:15 -0400 (Fri, 24 Oct 2025) EndedAt: 2025-10-24 15:47:25 -0400 (Fri, 24 Oct 2025) EllapsedTime: 70.6 seconds RetCode: 0 Status: OK