Package: beachmat.hdf5 Version: 1.7.2 Command: /home/biocbuild/bbs-3.22-bioc/R/bin/R CMD build --keep-empty-dirs --no-resave-data --md5 beachmat.hdf5 StartedAt: 2025-10-24 16:33:54 -0400 (Fri, 24 Oct 2025) EndedAt: 2025-10-24 16:35:12 -0400 (Fri, 24 Oct 2025) EllapsedTime: 78.1 seconds RetCode: 0 Status: OK PackageFile: beachmat.hdf5_1.7.2.tar.gz PackageFileSize: 298 KiB