Package: beachmat.hdf5 Version: 1.8.0 Command: /Library/Frameworks/R.framework/Resources/bin/R CMD INSTALL beachmat.hdf5 StartedAt: 2025-11-10 15:08:48 -0500 (Mon, 10 Nov 2025) EndedAt: 2025-11-10 15:09:06 -0500 (Mon, 10 Nov 2025) EllapsedTime: 18.4 seconds RetCode: 0 Status: OK