Package: beachmat.hdf5 Version: 1.8.0 Command: /Library/Frameworks/R.framework/Resources/bin/R CMD build --keep-empty-dirs --no-resave-data beachmat.hdf5 StartedAt: 2025-11-10 15:43:55 -0500 (Mon, 10 Nov 2025) EndedAt: 2025-11-10 15:44:17 -0500 (Mon, 10 Nov 2025) EllapsedTime: 22.3 seconds RetCode: 0 Status: OK PackageFile: beachmat.hdf5_1.8.0.tar.gz PackageFileSize: 297.1 KiB