Package: bcSeq Version: 1.32.0 Command: /Library/Frameworks/R.framework/Resources/bin/R CMD build --keep-empty-dirs --no-resave-data bcSeq StartedAt: 2025-11-03 16:09:23 -0500 (Mon, 03 Nov 2025) EndedAt: 2025-11-03 16:10:27 -0500 (Mon, 03 Nov 2025) EllapsedTime: 63.8 seconds RetCode: 1 Status: ERROR PackageFile: None PackageFileSize: NA