Package: bcSeq Version: 1.31.0 Command: /Library/Frameworks/R.framework/Resources/bin/R CMD INSTALL bcSeq StartedAt: 2025-10-24 15:10:42 -0400 (Fri, 24 Oct 2025) EndedAt: 2025-10-24 15:10:54 -0400 (Fri, 24 Oct 2025) EllapsedTime: 12.0 seconds RetCode: 0 Status: OK