Package: bcSeq Version: 1.31.0 Command: /Library/Frameworks/R.framework/Resources/bin/R CMD build --keep-empty-dirs --no-resave-data bcSeq StartedAt: 2025-10-24 15:46:35 -0400 (Fri, 24 Oct 2025) EndedAt: 2025-10-24 15:46:55 -0400 (Fri, 24 Oct 2025) EllapsedTime: 19.2 seconds RetCode: 0 Status: OK PackageFile: bcSeq_1.31.0.tar.gz PackageFileSize: 241 KiB