Package: bcSeq Version: 1.31.0 Command: rm -rf bcSeq.buildbin-libdir && mkdir bcSeq.buildbin-libdir && /Users/biocbuild/BBS/utils/build-universal.sh bcSeq_1.31.0.tar.gz /Library/Frameworks/R.framework/Resources/bin/R bcSeq.buildbin-libdir StartedAt: 2025-10-24 22:55:01 -0400 (Fri, 24 Oct 2025) EndedAt: 2025-10-24 22:55:14 -0400 (Fri, 24 Oct 2025) EllapsedTime: 13.3 seconds RetCode: 0 Status: OK PackageFile: bcSeq_1.31.0.tgz PackageFileSize: 350.6 KiB