Package: baySeq Version: 2.43.0 Command: /home/biocbuild/bbs-3.22-bioc/R/bin/R CMD build --keep-empty-dirs --no-resave-data --md5 baySeq StartedAt: 2025-10-24 16:32:33 -0400 (Fri, 24 Oct 2025) EndedAt: 2025-10-24 16:38:20 -0400 (Fri, 24 Oct 2025) EllapsedTime: 347.2 seconds RetCode: 0 Status: OK PackageFile: baySeq_2.43.0.tar.gz PackageFileSize: 1.127 MiB